BEGIN:VCALENDAR
VERSION:2.0
PRODID:-//ConVerve GmbH//B2BMatch//EN
METHOD:PUBLISH
BEGIN:VEVENT
DTSTART:20250715T060000Z
DTEND:20260731T160000Z
SUMMARY:Women Exporters in the Digital Economy (WEIDE) Fund
LOCATION:
DESCRIPTION:
UID:0000001
DTSTAMP:20180215T145139Z
END:VEVENT
END:VCALENDAR
